0.406140671512183250
0.00111091799325487080
0.00129476163362343340
-0.406172621970509800
739755.06840162829
4558166.6408121753
