0.406218306794943310
-0.0000252801575275463510
0.000178091507032912930
-0.406112762594952330
739784.83509386098
4556172.7356719756
