0.406152617317686870
0.0000414550325702734120
0.000149888473405912550
-0.405683494395765900
739784.30022681050
4554170.8674402554
