0.406202872642782380
-0.000132606800564213860
0.00000292681714967509790
-0.406020795116395440
739782.64820531383
4548173.3586593391
