0.406173275171371420
0.000879075088630472530
0.000952463408256375390
-0.405778309456816700
739784.73518707859
4546168.5262056729
