0.406279991381488790
-0.000356712741098707920
-0.000156130157104078650
-0.406413349214675980
739780.42375058902
4544171.0715830829
