0.406177761499501020
0.000276923651138856260
0.000418551522200799340
-0.405888260784951380
739785.52347515349
4540171.3579342281
