0.406173855518182410
0.000919177283967016430
0.00108175869729233860
-0.406399160959557360
737782.32034166111
4550169.4449400632
