0.406203834822476070
-0.000534200017070594910
-0.000321199466618661930
-0.406272487434366950
737752.86502149189
4548174.8453041129
