0.406265448393366480
-0.000325472150405325340
-0.000182786550201250870
-0.406226952042141380
737783.81471068948
4546174.4870223366
