0.406166931538139990
0.000550663391014730750
0.000745913686811145890
-0.406456297180834420
737783.88510229543
4538172.9964109827
