0.406219627722793850
0.0000486433670339875410
0.000253549348350050840
-0.406564389273301850
735783.42748776497
4564174.1306608319
