0.406263460764237860
0.0000700752841688146960
0.000277951245364835730
-0.406480285051869010
735781.73878863337
4548168.9687284026
