0.406316325341117450
-0.000450143610613087070
-0.000253026146280423480
-0.406388409906475230
735751.03923451283
4546174.8413775554
