0.406251717155791500
0.000317408862227868940
0.000421324787998524340
-0.406041525043709770
735783.81564933795
4544171.5553396568
