0.406261742220553330
-0.000208161488657099350
-0.000117227451760500680
-0.406200821543558800
735783.99399131851
4542172.9171384098
