0.406268659208134380
0.0000189919409959918490
0.000191179121009256900
-0.406496546386786340
735783.57408150495
4538171.7924533412
