0.406206772140899340
0.000617613653685639940
0.000802899120019468470
-0.406404079467689970
733783.06497132964
4564171.7001537262
