0.406167902245084310
-0.000643179763184653080
-0.000420649322408525700
-0.406228828961075590
733755.71235956869
4562175.6296143197
