0.406216721224009150
-0.000686505034632436360
-0.000539333306154372170
-0.406130774986029900
733783.15205458016
4548174.1990003670
