0.406281982180632490
0.000697214563429449940
0.000850888416976564660
-0.406612616575080300
733783.39826178749
4546174.1381490920
