0.406242114762216170
0.000176285847945320820
0.000337054006868627450
-0.406454156651769210
733783.94755417830
4544172.1407636190
