0.406116423129602500
0.000119233949330564400
0.000268737824659779060
-0.406391574514518790
733782.97930779762
4538171.7359654717
