0.406337483353628180
-0.000122782872830815730
0.0000905988168226417670
-0.406143348489121090
733755.55138118542
4536173.8978307368
