0.406201524883280600
-0.000588102878063391050
-0.000373367987248492310
-0.406476465448581510
731783.93592921295
4562170.4834926454
