0.406227342456469080
0.000241348655021153890
0.000388226673619406710
-0.406401149353777020
731783.06124571059
4548171.9017034955
