0.406260166666836400
0.000137400151784568100
0.000301593502695834890
-0.406140501438020550
731785.31332553341
4546169.1835809229
