0.406229533319185040
-0.000943409230031942150
-0.000692178711299224920
-0.406385959964069290
731783.47371439938
4538174.9206957929
