0.406283424481319710
0.00106898777632345210
0.00128392505107373810
-0.406451599270585110
731766.72546417674
4536170.1301606912
