0.406307827923082290
-0.000489813481873309340
-0.000338866149648516890
-0.406454132344640340
731749.50523758458
4534174.9670995725
