0.406331751658695390
0.000139467779969773660
0.000375555799338255540
-0.406601740061946990
729778.83612252271
4562172.6932271197
