0.304865028169459820
0.000453237740943637330
0.000599715144161761320
-0.304851173811078180
729746.02612991969
4560169.5214068955
