0.304814742492130360
-0.000424298273105306960
-0.000303065604532990220
-0.304852185811918200
729745.89904600102
4558174.4308277471
