0.406278807084463960
-0.000483606140320005380
-0.000294733425050991680
-0.406339904024770490
729782.70448482386
4548174.5144669842
