0.406268471192709590
-0.000258558004721889700
-0.000118205002779569530
-0.406366991571640970
729781.81960810034
4546172.8113148389
