0.406332547634876140
0.000567633006785995710
0.000787430776630540030
-0.406438277274098040
729745.14382072235
4544167.0173113225
