0.406214543805056170
0.000149232032266360740
0.000277219900779227570
-0.406063783843261310
729753.58480683237
4542174.2075519683
