0.406339437649611220
0.000346847179033605280
0.000535054856671635410
-0.406181386958364980
729750.29250407056
4534171.4915787932
