0.304850189222018230
0.000393474122084479130
0.000515989740216970740
-0.304945709432077270
727734.04968653363
4560171.7252074936
