0.304879016399999650
-0.000666010960140364760
-0.000503602180495301130
-0.304953996154499860
727751.55206308491
4558178.6112768566
