0.406398057906441730
0.000368384002975079090
0.000581290320693895520
-0.406336407469572560
727783.06672317092
4556167.6023854930
