0.406349179462204280
0.0000974713791878177310
0.000286340218516609480
-0.406184771008508580
727782.64960738027
4552169.8626842359
