0.406329887007216340
-0.0000430988296933026010
0.000144229264135020470
-0.406514112142301490
727783.33957129321
4550170.8088412127
