0.406385745567760530
-0.000306450115794843490
-0.000152499525245771930
-0.406421271088274420
727747.44320169068
4548174.1822811309
