0.406317696831504700
0.0000854790306215847760
0.000270199531023031960
-0.406506688249366700
727782.96710213751
4546174.6951208105
