0.406322334321353120
0.000472807825966190900
0.000667662961441317580
-0.406506571360480740
727780.23583257245
4544172.8345386786
