0.406303796517212270
0.000117688464160116650
0.000307514201508656000
-0.406589427956820240
727777.82220012567
4542175.6521808803
