0.406346514745271110
-0.0000545049957941566650
0.000168390175504947300
-0.406245142605313750
727782.91486693895
4536171.2550548958
