0.406298439554343470
-0.0000697695229182701430
0.000150792402954732750
-0.406345970609870380
727782.81520835822
4534173.1009036340
