0.406288221244820220
0.000264991947431706450
0.000500053193644341640
-0.406339929182531200
727782.04791921587
4532171.6328843310
